BEGIN:VCALENDAR
VERSION:2.0
PRODID:-//ZEN | Buddhovo sezení - ECPv6.15.20//NONSGML v1.0//EN
CALSCALE:GREGORIAN
METHOD:PUBLISH
X-WR-CALNAME:ZEN | Buddhovo sezení
X-ORIGINAL-URL:https://www.zenkaisen.cz
X-WR-CALDESC:Akce na ZEN | Buddhovo sezení
REFRESH-INTERVAL;VALUE=DURATION:PT1H
X-Robots-Tag:noindex
X-PUBLISHED-TTL:PT1H
BEGIN:VTIMEZONE
TZID:Europe/Prague
BEGIN:DAYLIGHT
TZOFFSETFROM:+0100
TZOFFSETTO:+0200
TZNAME:CEST
DTSTART:20240331T010000
END:DAYLIGHT
BEGIN:STANDARD
TZOFFSETFROM:+0200
TZOFFSETTO:+0100
TZNAME:CET
DTSTART:20241027T010000
END:STANDARD
BEGIN:DAYLIGHT
TZOFFSETFROM:+0100
TZOFFSETTO:+0200
TZNAME:CEST
DTSTART:20250330T010000
END:DAYLIGHT
BEGIN:STANDARD
TZOFFSETFROM:+0200
TZOFFSETTO:+0100
TZNAME:CET
DTSTART:20251026T010000
END:STANDARD
BEGIN:DAYLIGHT
TZOFFSETFROM:+0100
TZOFFSETTO:+0200
TZNAME:CEST
DTSTART:20260329T010000
END:DAYLIGHT
BEGIN:STANDARD
TZOFFSETFROM:+0200
TZOFFSETTO:+0100
TZNAME:CET
DTSTART:20261025T010000
END:STANDARD
BEGIN:DAYLIGHT
TZOFFSETFROM:+0100
TZOFFSETTO:+0200
TZNAME:CEST
DTSTART:20270328T010000
END:DAYLIGHT
BEGIN:STANDARD
TZOFFSETFROM:+0200
TZOFFSETTO:+0100
TZNAME:CET
DTSTART:20271031T010000
END:STANDARD
END:VTIMEZONE
BEGIN:VEVENT
DTSTART;TZID=Europe/Prague:20251127T200000
DTEND;TZID=Europe/Prague:20251130T150000
DTSTAMP:20260425T161744
CREATED:20251022T080707Z
LAST-MODIFIED:20251022T095053Z
UID:8650-1764273600-1764514800@www.zenkaisen.cz
SUMMARY:Listopadové ústraní
DESCRIPTION:Zveme vás do podzimní přírody a ticha myšlenek na listopadové ústraní do našeho centra „Oko Lesa“ v Dolních Povelicích. Ústraní povede mniška Irena Myoka Pavlíková. \nNa ústraní bude několikrát denně probíhat meditace vsedě (zazen)\, kterou vystřídá čas na společné jídlo\, práci na zahradě i odpočinek. Ústraní je vhodné i pro úplné začátečníky. \nVzdáleni od ruchů a starostí každodenního běhu životem budete mít možnost se vrátit k Sobě\, prožívat každý okamžik v otevřenosti vědomí\, obnažit svou přirozenost a nechat ji vyjadřovat se v každém vašem činu. Nádech za nádechem pokojně plynout v tom Co je\, v souznění se sebou\, s druhými\, s Vesmírem. \nMísto konání ústraní:\nCentrum Oko Lesa\nDolní Povelice 2\, Bohušov\, 793 99\, Česká republika \nS sebou si vezměte:\n– meditační polštář (zafu) a podložku pod něj (futon nebo deku);\n– volné tmavé oblečení na sezení;\n– tři misky a příbor zabalené v černém látkovém ubrousku;\n– teplé pracovní oblečení\, obuv\, pokrývku hlavy a rukavice;\n– spacák\, povlečení na polštář a plachtu (nebo místo spacáku povlečení na peřinu);\n– osobní věci na tři dny (přezůvky\, ručník apod.). \nJídlo je zajištěno. (Pokud jste vegetariáni nebo máte nějaké výživové omezení\, dejte nám prosím vědět předem.) \n\nRegistrace ukončena \n\nPříspěvky: 3000 Kč\n(pro členy Buddhovo sezení z. s.: 2000 Kč)\nPříspěvky prosím posílejte na účet: 2501764235/2010\, VS 2511\nPokud máte jakékoli otázky\, neváhejte nás kontaktovat na:\ntel: 734 131 419\, email: sekretar@zenkaisen.cz \nPočet míst je omezen!
URL:https://www.zenkaisen.cz/akce/listopadove-ustrani-3/
LOCATION:Centrum Oko Lesa\, Dolní Povelice 2\, Bohušov\, 79399\, Česká republika
CATEGORIES:Centrum Oko Lesa
ATTACH;FMTTYPE=image/jpeg:https://www.zenkaisen.cz/wp-content/uploads/2025/01/buddha.detail.jpg
END:VEVENT
BEGIN:VEVENT
DTSTART;TZID=Europe/Prague:20260129T200000
DTEND;TZID=Europe/Prague:20260201T150000
DTSTAMP:20260425T161744
CREATED:20260113T090044Z
LAST-MODIFIED:20260113T104532Z
UID:9144-1769716800-1769958000@www.zenkaisen.cz
SUMMARY:Lednové ústraní
DESCRIPTION:Zveme vás do zimní přírody a ticha myšlenek na lednové ústraní do našeho centra „Oko Lesa“ v Dolních Povelicích. Ústraní povede mniška Celle qui Veille sur Maya (Stanislava L. Janíčková). \nNa ústraní bude několikrát denně probíhat meditace vsedě (zazen)\, kterou vystřídá čas na společné jídlo\, práci na zahradě i odpočinek. Ústraní je vhodné i pro úplné začátečníky. \nVzdáleni od ruchů a starostí každodenního běhu životem budete mít možnost se vrátit k Sobě\, prožívat každý okamžik v otevřenosti vědomí\, obnažit svou přirozenost a nechat ji vyjadřovat se v každém vašem činu. Nádech za nádechem pokojně plynout v tom Co je\, v souznění se sebou\, s druhými\, s Vesmírem. \nMísto konání ústraní:\nCentrum Oko Lesa\nDolní Povelice 2\, Bohušov\, 793 99\, Česká republika \nS sebou si vezměte:\n– meditační polštář (zafu) a podložku pod něj (futon nebo deku);\n– volné tmavé oblečení na sezení;\n– tři misky a příbor zabalené v černém látkovém ubrousku;\n– teplé pracovní oblečení\, obuv\, pokrývku hlavy a rukavice;\n– spacák\, povlečení na polštář a plachtu (nebo místo spacáku povlečení na peřinu);\n– osobní věci na tři dny (přezůvky\, ručník apod.). \nJídlo je zajištěno. (Pokud jste vegetariáni nebo máte nějaké výživové omezení\, dejte nám prosím vědět předem.) \n\nRegistrace ukončena \n\nPříspěvky: 3000 Kč\n(pro členy Buddhovo sezení z. s.: 2000 Kč)\nPříspěvky prosím posílejte na účet: 2501764235/2010\, VS 2601\nPokud máte jakékoli otázky\, neváhejte nás kontaktovat na:\ntel: 734 131 419\, email: sekretar@zenkaisen.cz \nPočet míst je omezen!
URL:https://www.zenkaisen.cz/akce/lednove-ustrani-2026/
LOCATION:Centrum Oko Lesa\, Dolní Povelice 2\, Bohušov\, 79399\, Česká republika
CATEGORIES:Centrum Oko Lesa
ATTACH;FMTTYPE=image/jpeg:https://www.zenkaisen.cz/wp-content/uploads/2025/11/01_Stanka.jpg
END:VEVENT
BEGIN:VEVENT
DTSTART;TZID=Europe/Prague:20260305T200000
DTEND;TZID=Europe/Prague:20260308T150000
DTSTAMP:20260425T161744
CREATED:20260223T130244Z
LAST-MODIFIED:20260224T144914Z
UID:9147-1772740800-1772982000@www.zenkaisen.cz
SUMMARY:Březnové ústraní
DESCRIPTION:Zveme vás do jarní přírody a ticha myšlenek na březnové ústraní do našeho centra „Oko Lesa“ v Dolních Povelicích. Ústraní povede mnich Esprit Tranquille (Peter Krška). \nNa ústraní bude několikrát denně probíhat meditace vsedě (zazen)\, kterou vystřídá čas na společné jídlo\, práci na zahradě i odpočinek. Ústraní je vhodné i pro úplné začátečníky. \nVzdáleni od ruchů a starostí každodenního běhu životem budete mít možnost se vrátit k Sobě\, prožívat každý okamžik v otevřenosti vědomí\, obnažit svou přirozenost a nechat ji vyjadřovat se v každém vašem činu. Nádech za nádechem pokojně plynout v tom Co je\, v souznění se sebou\, s druhými\, s Vesmírem. \nMísto konání ústraní:\nCentrum Oko Lesa\nDolní Povelice 2\, Bohušov\, 793 99\, Česká republika \nS sebou si vezměte:\n– meditační polštář (zafu) a podložku pod něj (futon nebo deku);\n– volné tmavé oblečení na sezení;\n– tři misky a příbor zabalené v černém látkovém ubrousku;\n– teplé pracovní oblečení\, obuv\, pokrývku hlavy a rukavice;\n– spacák\, povlečení na polštář a plachtu (nebo místo spacáku povlečení na peřinu);\n– osobní věci na tři dny (přezůvky\, ručník apod.). \nJídlo je zajištěno. (Pokud jste vegetariáni nebo máte nějaké výživové omezení\, dejte nám prosím vědět předem.) \n\nRegistrace ukončena \n\nPříspěvky: 3000 Kč\n(pro členy Buddhovo sezení z. s.: 2000 Kč)\nPříspěvky prosím posílejte na účet: 2501764235/2010\, VS 2603\nPokud máte jakékoli otázky\, neváhejte nás kontaktovat na:\ntel: 734 131 419\, email: sekretar@zenkaisen.cz \nPočet míst je omezen!
URL:https://www.zenkaisen.cz/akce/breznove-ustrani-2026/
LOCATION:Centrum Oko Lesa\, Dolní Povelice 2\, Bohušov\, 79399\, Česká republika
CATEGORIES:Centrum Oko Lesa
ATTACH;FMTTYPE=image/jpeg:https://www.zenkaisen.cz/wp-content/uploads/2025/11/03_Peto.jpg
END:VEVENT
BEGIN:VEVENT
DTSTART;TZID=Europe/Prague:20260403T200000
DTEND;TZID=Europe/Prague:20260406T150000
DTSTAMP:20260425T161744
CREATED:20260319T130244Z
LAST-MODIFIED:20260319T165357Z
UID:9150-1775246400-1775487600@www.zenkaisen.cz
SUMMARY:Dubnové ústraní
DESCRIPTION:Zveme vás do jarní přírody a ticha myšlenek na dubnové ústraní do našeho centra „Oko Lesa“ v Dolních Povelicích. Ústraní povede mnich Robert Gyôja Klimo. \nNa ústraní bude několikrát denně probíhat meditace vsedě (zazen)\, kterou vystřídá čas na společné jídlo\, práci na zahradě i odpočinek. Ústraní je vhodné i pro úplné začátečníky. \nVzdáleni od ruchů a starostí každodenního běhu životem budete mít možnost se vrátit k Sobě\, prožívat každý okamžik v otevřenosti vědomí\, obnažit svou přirozenost a nechat ji vyjadřovat se v každém vašem činu. Nádech za nádechem pokojně plynout v tom Co je\, v souznění se sebou\, s druhými\, s Vesmírem. \nMísto konání ústraní:\nCentrum Oko Lesa\nDolní Povelice 2\, Bohušov\, 793 99\, Česká republika \nS sebou si vezměte:\n– meditační polštář (zafu) a podložku pod něj (futon nebo deku);\n– volné tmavé oblečení na sezení;\n– tři misky a příbor zabalené v černém látkovém ubrousku;\n– teplé pracovní oblečení\, obuv\, pokrývku hlavy a rukavice;\n– spacák\, povlečení na polštář a plachtu (nebo místo spacáku povlečení na peřinu);\n– osobní věci na tři dny (přezůvky\, ručník apod.). \nJídlo je zajištěno. (Pokud jste vegetariáni nebo máte nějaké výživové omezení\, dejte nám prosím vědět předem.) \n\nRegistrace ukončena \n\nPříspěvky: 3000 Kč\n(pro členy Buddhovo sezení z. s.: 2000 Kč)\nPříspěvky prosím posílejte na účet: 2501764235/2010\, VS 2604\nPokud máte jakékoli otázky\, neváhejte nás kontaktovat na:\ntel: 734 131 419\, email: sekretar@zenkaisen.cz \nPočet míst je omezen!
URL:https://www.zenkaisen.cz/akce/dubnove-ustrani-2026/
LOCATION:Centrum Oko Lesa\, Dolní Povelice 2\, Bohušov\, 79399\, Česká republika
CATEGORIES:Centrum Oko Lesa
ATTACH;FMTTYPE=image/jpeg:https://www.zenkaisen.cz/wp-content/uploads/2025/01/02.Robo_.jpg
END:VEVENT
BEGIN:VEVENT
DTSTART;TZID=Europe/Prague:20260703T200000
DTEND;TZID=Europe/Prague:20260706T150000
DTSTAMP:20260425T161744
CREATED:20251109T130244Z
LAST-MODIFIED:20251109T131148Z
UID:9153-1783108800-1783350000@www.zenkaisen.cz
SUMMARY:Letní ústraní
DESCRIPTION:Zveme vás do přírody a ticha myšlenek na letní ústraní do našeho centra „Oko Lesa“ v Dolních Povelicích. Ústraní povede mnich Koishin (Michael Lieberman). \nNa ústraní bude několikrát denně probíhat meditace vsedě (zazen)\, kterou vystřídá čas na společné jídlo\, práci na zahradě i odpočinek. Ústraní je vhodné i pro úplné začátečníky. \nVzdáleni od ruchů a starostí každodenního běhu životem budete mít možnost se vrátit k Sobě\, prožívat každý okamžik v otevřenosti vědomí\, obnažit svou přirozenost a nechat ji vyjadřovat se v každém vašem činu. Nádech za nádechem pokojně plynout v tom Co je\, v souznění se sebou\, s druhými\, s Vesmírem. \nMísto konání ústraní:\nCentrum Oko Lesa\nDolní Povelice 2\, Bohušov\, 793 99\, Česká republika \nS sebou si vezměte:\n– meditační polštář (zafu) a podložku pod něj (futon nebo deku);\n– volné tmavé oblečení na sezení;\n– tři misky a příbor zabalené v černém látkovém ubrousku;\n– teplé pracovní oblečení\, obuv\, pokrývku hlavy a rukavice;\n– spacák\, povlečení na polštář a plachtu (nebo místo spacáku povlečení na peřinu);\n– osobní věci na tři dny (přezůvky\, ručník apod.). \nJídlo je zajištěno. (Pokud jste vegetariáni nebo máte nějaké výživové omezení\, dejte nám prosím vědět předem.) \n\nRegistrace ukončena \n\nPříspěvky: 3000 Kč\n(pro členy Buddhovo sezení z. s.: 2000 Kč)\nPříspěvky prosím posílejte na účet: 2501764235/2010\, VS 2607\nPokud máte jakékoli otázky\, neváhejte nás kontaktovat na:\ntel: 734 131 419\, email: sekretar@zenkaisen.cz \nPočet míst je omezen!
URL:https://www.zenkaisen.cz/akce/letni-ustrani-2026/
LOCATION:Centrum Oko Lesa\, Dolní Povelice 2\, Bohušov\, 79399\, Česká republika
CATEGORIES:Centrum Oko Lesa
ATTACH;FMTTYPE=image/jpeg:https://www.zenkaisen.cz/wp-content/uploads/2025/11/07_Mike.jpg
END:VEVENT
BEGIN:VEVENT
DTSTART;TZID=Europe/Prague:20260925T200000
DTEND;TZID=Europe/Prague:20260928T150000
DTSTAMP:20260425T161744
CREATED:20251109T130244Z
LAST-MODIFIED:20251109T130244Z
UID:9156-1790366400-1790607600@www.zenkaisen.cz
SUMMARY:Podzimní ústraní
DESCRIPTION:Zveme vás do přírody a ticha myšlenek na podzimní ústraní do našeho centra „Oko Lesa“ v Dolních Povelicích. Ústraní povede mnich Ji Kara (Aleš Furák). \nNa ústraní bude několikrát denně probíhat meditace vsedě (zazen)\, kterou vystřídá čas na společné jídlo\, práci na zahradě i odpočinek. Ústraní je vhodné i pro úplné začátečníky. \nVzdáleni od ruchů a starostí každodenního běhu životem budete mít možnost se vrátit k Sobě\, prožívat každý okamžik v otevřenosti vědomí\, obnažit svou přirozenost a nechat ji vyjadřovat se v každém vašem činu. Nádech za nádechem pokojně plynout v tom Co je\, v souznění se sebou\, s druhými\, s Vesmírem. \nMísto konání ústraní:\nCentrum Oko Lesa\nDolní Povelice 2\, Bohušov\, 793 99\, Česká republika \nS sebou si vezměte:\n– meditační polštář (zafu) a podložku pod něj (futon nebo deku);\n– volné tmavé oblečení na sezení;\n– tři misky a příbor zabalené v černém látkovém ubrousku;\n– teplé pracovní oblečení\, obuv\, pokrývku hlavy a rukavice;\n– spacák\, povlečení na polštář a plachtu (nebo místo spacáku povlečení na peřinu);\n– osobní věci na tři dny (přezůvky\, ručník apod.). \nJídlo je zajištěno. (Pokud jste vegetariáni nebo máte nějaké výživové omezení\, dejte nám prosím vědět předem.) \n\nRegistrace ukončena \n\nPříspěvky: 3000 Kč\n(pro členy Buddhovo sezení z. s.: 2000 Kč)\nPříspěvky prosím posílejte na účet: 2501764235/2010\, VS 2609\nPokud máte jakékoli otázky\, neváhejte nás kontaktovat na:\ntel: 734 131 419\, email: sekretar@zenkaisen.cz \nPočet míst je omezen!
URL:https://www.zenkaisen.cz/akce/podzimni-ustrani-2026/
LOCATION:Centrum Oko Lesa\, Dolní Povelice 2\, Bohušov\, 79399\, Česká republika
CATEGORIES:Centrum Oko Lesa
ATTACH;FMTTYPE=image/jpeg:https://www.zenkaisen.cz/wp-content/uploads/2025/11/09_Ales.jpg
END:VEVENT
BEGIN:VEVENT
DTSTART;TZID=Europe/Prague:20261022T200000
DTEND;TZID=Europe/Prague:20261025T150000
DTSTAMP:20260425T161744
CREATED:20251109T130244Z
LAST-MODIFIED:20251109T130244Z
UID:9159-1792699200-1792940400@www.zenkaisen.cz
SUMMARY:Říjnové ústraní
DESCRIPTION:Zveme vás do přírody a ticha myšlenek na podzimní ústraní do našeho centra „Oko Lesa“ v Dolních Povelicích. Ústraní povede mnich Robert Gyôja Klimo. \nNa ústraní bude několikrát denně probíhat meditace vsedě (zazen)\, kterou vystřídá čas na společné jídlo\, práci na zahradě i odpočinek. Ústraní je vhodné i pro úplné začátečníky. \nVzdáleni od ruchů a starostí každodenního běhu životem budete mít možnost se vrátit k Sobě\, prožívat každý okamžik v otevřenosti vědomí\, obnažit svou přirozenost a nechat ji vyjadřovat se v každém vašem činu. Nádech za nádechem pokojně plynout v tom Co je\, v souznění se sebou\, s druhými\, s Vesmírem. \nMísto konání ústraní:\nCentrum Oko Lesa\nDolní Povelice 2\, Bohušov\, 793 99\, Česká republika \nS sebou si vezměte:\n– meditační polštář (zafu) a podložku pod něj (futon nebo deku);\n– volné tmavé oblečení na sezení;\n– tři misky a příbor zabalené v černém látkovém ubrousku;\n– teplé pracovní oblečení\, obuv\, pokrývku hlavy a rukavice;\n– spacák\, povlečení na polštář a plachtu (nebo místo spacáku povlečení na peřinu);\n– osobní věci na tři dny (přezůvky\, ručník apod.). \nJídlo je zajištěno. (Pokud jste vegetariáni nebo máte nějaké výživové omezení\, dejte nám prosím vědět předem.) \n\nRegistrace ukončena \n\nPříspěvky: 3000 Kč\n(pro členy Buddhovo sezení z. s.: 2000 Kč)\nPříspěvky prosím posílejte na účet: 2501764235/2010\, VS 2610\nPokud máte jakékoli otázky\, neváhejte nás kontaktovat na:\ntel: 734 131 419\, email: sekretar@zenkaisen.cz \nPočet míst je omezen!
URL:https://www.zenkaisen.cz/akce/rijnove-ustrani-2026/
LOCATION:Centrum Oko Lesa\, Dolní Povelice 2\, Bohušov\, 79399\, Česká republika
CATEGORIES:Centrum Oko Lesa
ATTACH;FMTTYPE=image/jpeg:https://www.zenkaisen.cz/wp-content/uploads/2021/10/robo.jpeg
END:VEVENT
BEGIN:VEVENT
DTSTART;TZID=Europe/Prague:20261126T200000
DTEND;TZID=Europe/Prague:20261129T150000
DTSTAMP:20260425T161744
CREATED:20251109T130244Z
LAST-MODIFIED:20251109T130244Z
UID:9162-1795723200-1795964400@www.zenkaisen.cz
SUMMARY:Listopadové ústraní
DESCRIPTION:Zveme vás do podzimní přírody a ticha myšlenek na listopadové ústraní do našeho centra „Oko Lesa“ v Dolních Povelicích. Ústraní povede mniška Irena Myoka Pavlíková. \nNa ústraní bude několikrát denně probíhat meditace vsedě (zazen)\, kterou vystřídá čas na společné jídlo\, práci na zahradě i odpočinek. Ústraní je vhodné i pro úplné začátečníky. \nVzdáleni od ruchů a starostí každodenního běhu životem budete mít možnost se vrátit k Sobě\, prožívat každý okamžik v otevřenosti vědomí\, obnažit svou přirozenost a nechat ji vyjadřovat se v každém vašem činu. Nádech za nádechem pokojně plynout v tom Co je\, v souznění se sebou\, s druhými\, s Vesmírem. \nMísto konání ústraní:\nCentrum Oko Lesa\nDolní Povelice 2\, Bohušov\, 793 99\, Česká republika \nS sebou si vezměte:\n– meditační polštář (zafu) a podložku pod něj (futon nebo deku);\n– volné tmavé oblečení na sezení;\n– tři misky a příbor zabalené v černém látkovém ubrousku;\n– teplé pracovní oblečení\, obuv\, pokrývku hlavy a rukavice;\n– spacák\, povlečení na polštář a plachtu (nebo místo spacáku povlečení na peřinu);\n– osobní věci na tři dny (přezůvky\, ručník apod.). \nJídlo je zajištěno. (Pokud jste vegetariáni nebo máte nějaké výživové omezení\, dejte nám prosím vědět předem.) \n\nRegistrace ukončena \n\nPříspěvky: 3000 Kč\n(pro členy Buddhovo sezení z. s.: 2000 Kč)\nPříspěvky prosím posílejte na účet: 2501764235/2010\, VS 2611\nPokud máte jakékoli otázky\, neváhejte nás kontaktovat na:\ntel: 734 131 419\, email: sekretar@zenkaisen.cz \nPočet míst je omezen!
URL:https://www.zenkaisen.cz/akce/listopadove-ustrani-2026/
LOCATION:Centrum Oko Lesa\, Dolní Povelice 2\, Bohušov\, 79399\, Česká republika
CATEGORIES:Centrum Oko Lesa
ATTACH;FMTTYPE=image/jpeg:https://www.zenkaisen.cz/wp-content/uploads/2025/11/11_Irenka.jpg
END:VEVENT
END:VCALENDAR