BEGIN:VCALENDAR
VERSION:2.0
PRODID:-//ZEN | Buddhovo sezení - ECPv6.15.20//NONSGML v1.0//EN
CALSCALE:GREGORIAN
METHOD:PUBLISH
X-WR-CALNAME:ZEN | Buddhovo sezení
X-ORIGINAL-URL:https://www.zenkaisen.cz
X-WR-CALDESC:Akce na ZEN | Buddhovo sezení
REFRESH-INTERVAL;VALUE=DURATION:PT1H
X-Robots-Tag:noindex
X-PUBLISHED-TTL:PT1H
BEGIN:VTIMEZONE
TZID:Europe/Prague
BEGIN:DAYLIGHT
TZOFFSETFROM:+0100
TZOFFSETTO:+0200
TZNAME:CEST
DTSTART:20210328T010000
END:DAYLIGHT
BEGIN:STANDARD
TZOFFSETFROM:+0200
TZOFFSETTO:+0100
TZNAME:CET
DTSTART:20211031T010000
END:STANDARD
BEGIN:DAYLIGHT
TZOFFSETFROM:+0100
TZOFFSETTO:+0200
TZNAME:CEST
DTSTART:20220327T010000
END:DAYLIGHT
BEGIN:STANDARD
TZOFFSETFROM:+0200
TZOFFSETTO:+0100
TZNAME:CET
DTSTART:20221030T010000
END:STANDARD
BEGIN:DAYLIGHT
TZOFFSETFROM:+0100
TZOFFSETTO:+0200
TZNAME:CEST
DTSTART:20230326T010000
END:DAYLIGHT
BEGIN:STANDARD
TZOFFSETFROM:+0200
TZOFFSETTO:+0100
TZNAME:CET
DTSTART:20231029T010000
END:STANDARD
BEGIN:DAYLIGHT
TZOFFSETFROM:+0100
TZOFFSETTO:+0200
TZNAME:CEST
DTSTART:20240331T010000
END:DAYLIGHT
BEGIN:STANDARD
TZOFFSETFROM:+0200
TZOFFSETTO:+0100
TZNAME:CET
DTSTART:20241027T010000
END:STANDARD
END:VTIMEZONE
BEGIN:VEVENT
DTSTART;TZID=Europe/Prague:20230223T200000
DTEND;TZID=Europe/Prague:20230226T160000
DTSTAMP:20260425T162534
CREATED:20220927T120201Z
LAST-MODIFIED:20230212T100922Z
UID:6323-1677182400-1677427200@www.zenkaisen.cz
SUMMARY:Únorové ústraní
DESCRIPTION:Kapacita je naplněna.
URL:https://www.zenkaisen.cz/akce/unorove-ustrani-v-dolnich-povelicich/
LOCATION:Centrum Oko Lesa\, Dolní Povelice 2\, Bohušov\, 79399\, Česká republika
CATEGORIES:Centrum Oko Lesa
ATTACH;FMTTYPE=image/jpeg:https://www.zenkaisen.cz/wp-content/uploads/2023/01/25-scaled.jpg
END:VEVENT
BEGIN:VEVENT
DTSTART;TZID=Europe/Prague:20230210T200000
DTEND;TZID=Europe/Prague:20230212T160000
DTSTAMP:20260425T162534
CREATED:20230116T171206Z
LAST-MODIFIED:20230212T100822Z
UID:6761-1676059200-1676217600@www.zenkaisen.cz
SUMMARY:Pracovní víkend
DESCRIPTION:
URL:https://www.zenkaisen.cz/akce/pracovni-vikend/
LOCATION:Centrum Oko Lesa\, Dolní Povelice 2\, Bohušov\, 79399\, Česká republika
CATEGORIES:Centrum Oko Lesa
ATTACH;FMTTYPE=image/jpeg:https://www.zenkaisen.cz/wp-content/uploads/2023/01/17-scaled.jpg
END:VEVENT
BEGIN:VEVENT
DTSTART;TZID=Europe/Prague:20230126T200000
DTEND;TZID=Europe/Prague:20230129T160000
DTSTAMP:20260425T162534
CREATED:20220927T120033Z
LAST-MODIFIED:20230118T173716Z
UID:6320-1674763200-1675008000@www.zenkaisen.cz
SUMMARY:Lednové ústraní
DESCRIPTION:Kapacita je naplněna.
URL:https://www.zenkaisen.cz/akce/lednove-ustrani-v-dolnich-povelicich/
LOCATION:Centrum Oko Lesa\, Dolní Povelice 2\, Bohušov\, 79399\, Česká republika
CATEGORIES:Centrum Oko Lesa
END:VEVENT
BEGIN:VEVENT
DTSTART;TZID=Europe/Prague:20221124T200000
DTEND;TZID=Europe/Prague:20221127T150000
DTSTAMP:20260425T162534
CREATED:20220927T120921Z
LAST-MODIFIED:20230115T130705Z
UID:6333-1669320000-1669561200@www.zenkaisen.cz
SUMMARY:Listopadové ústraní v Dolních Povelicích - plně obsazeno
DESCRIPTION:Bohužel toto ústraní je už plně obsazeno z důvodu omezené kapacity našeho centra.
URL:https://www.zenkaisen.cz/akce/listopadove-ustrani-v-dolnich-povelicich/
LOCATION:Centrum Oko Lesa\, Dolní Povelice 2\, Bohušov\, 79399\, Česká republika
CATEGORIES:Centrum Oko Lesa
END:VEVENT
END:VCALENDAR